BEGIN:VCALENDAR
VERSION:2.0
PRODID:-//eventon.com NONSGML v1.0//EN
BEGIN:VEVENT
UID:69e8ba456cfda
DTSTAMP:20260422T140837
DTSTART:20260531T090000Z
DTEND:20260531T160000Z
TZID:Europe/Paris
LOCATION:
SUMMARY:Expo et Baptêmes école Notre Dame À Thury Harcourt
DESCRIPTION: L’Association des Parents d’Élèves Libre (APEL) de l’école Notre-Dame de Thury-Harcourt organise\,  le dimanche 31 mai 2026\,  une journée dédiée à l’exposition et baptêmes en automobiles\,  au départ de l’école.Dans un cadre original et convivial\,  cet événement est l’occasion de partager notre passion avec les enfants et les familles. Le[..]\nhttps://cavs-normandie.fr/evenements/expo-et-baptemes-ecole-notre-dame-a-thury-harcourt/
URL:https://cavs-normandie.fr/evenements/expo-et-baptemes-ecole-notre-dame-a-thury-harcourt/
END:VEVENT
END:VCALENDAR