BEGIN:VCALENDAR
VERSION:2.0
PRODID:-//eventon.com NONSGML v1.0//EN
BEGIN:VEVENT
UID:69e8b89522fe9
DTSTAMP:20260422T140125
DTSTART:20260426T063000Z
DTEND:20260426T150000Z
TZID:Europe/Paris
LOCATION:
SUMMARY:Balade dans le Perche
DESCRIPTION: Après la Manche en 2024 et l&rsquo;Eure en 2025\,  le CAVS vous propose une balade dans le Perche le dimanche 26 avril 2026. Plus d’informations sur le forum du club : https://cavs-normandie.fr/forum/viewtopic.php?p=518#p518\nhttps://cavs-normandie.fr/evenements/balade-dans-le-perche/
URL:https://cavs-normandie.fr/evenements/balade-dans-le-perche/
END:VEVENT
END:VCALENDAR